BEGIN:VCALENDAR
VERSION:2.0
PRODID:-//AVIS Provinciale Parma - ECPv6.15.13//NONSGML v1.0//EN
CALSCALE:GREGORIAN
METHOD:PUBLISH
X-ORIGINAL-URL:https://parma.avisemiliaromagna.it
X-WR-CALDESC:Eventi per AVIS Provinciale Parma
REFRESH-INTERVAL;VALUE=DURATION:PT1H
X-Robots-Tag:noindex
X-PUBLISHED-TTL:PT1H
BEGIN:VTIMEZONE
TZID:Europe/Rome
BEGIN:DAYLIGHT
TZOFFSETFROM:+0100
TZOFFSETTO:+0200
TZNAME:CEST
DTSTART:20180325T010000
END:DAYLIGHT
BEGIN:STANDARD
TZOFFSETFROM:+0200
TZOFFSETTO:+0100
TZNAME:CET
DTSTART:20181028T010000
END:STANDARD
BEGIN:DAYLIGHT
TZOFFSETFROM:+0100
TZOFFSETTO:+0200
TZNAME:CEST
DTSTART:20190331T010000
END:DAYLIGHT
BEGIN:STANDARD
TZOFFSETFROM:+0200
TZOFFSETTO:+0100
TZNAME:CET
DTSTART:20191027T010000
END:STANDARD
BEGIN:DAYLIGHT
TZOFFSETFROM:+0100
TZOFFSETTO:+0200
TZNAME:CEST
DTSTART:20200329T010000
END:DAYLIGHT
BEGIN:STANDARD
TZOFFSETFROM:+0200
TZOFFSETTO:+0100
TZNAME:CET
DTSTART:20201025T010000
END:STANDARD
END:VTIMEZONE
BEGIN:VEVENT
DTSTART;TZID=Europe/Rome:20191004T203000
DTEND;TZID=Europe/Rome:20191004T203000
DTSTAMP:20260425T153026
CREATED:20190920T105933Z
LAST-MODIFIED:20190920T105933Z
UID:9843-1570221000-1570221000@parma.avisemiliaromagna.it
SUMMARY:Aspettando la Cura - La vita con la fibrosi cistica
DESCRIPTION:
URL:https://parma.avisemiliaromagna.it/eventi/aspettando-la-cura-la-vita-con-la-fibrosi-cistica/
CATEGORIES:Incontri Formativi
ATTACH;FMTTYPE=image/jpeg:https://parma.avisemiliaromagna.it/wp-content/uploads/2019/09/Immagine.jpg
END:VEVENT
END:VCALENDAR