BEGIN:VCALENDAR
VERSION:2.0
PRODID:-//AVIS Provinciale Parma - ECPv6.15.13//NONSGML v1.0//EN
CALSCALE:GREGORIAN
METHOD:PUBLISH
X-ORIGINAL-URL:https://parma.avisemiliaromagna.it
X-WR-CALDESC:Eventi per AVIS Provinciale Parma
REFRESH-INTERVAL;VALUE=DURATION:PT1H
X-Robots-Tag:noindex
X-PUBLISHED-TTL:PT1H
BEGIN:VTIMEZONE
TZID:Europe/Rome
BEGIN:DAYLIGHT
TZOFFSETFROM:+0100
TZOFFSETTO:+0200
TZNAME:CEST
DTSTART:20160327T010000
END:DAYLIGHT
BEGIN:STANDARD
TZOFFSETFROM:+0200
TZOFFSETTO:+0100
TZNAME:CET
DTSTART:20161030T010000
END:STANDARD
BEGIN:DAYLIGHT
TZOFFSETFROM:+0100
TZOFFSETTO:+0200
TZNAME:CEST
DTSTART:20170326T010000
END:DAYLIGHT
BEGIN:STANDARD
TZOFFSETFROM:+0200
TZOFFSETTO:+0100
TZNAME:CET
DTSTART:20171029T010000
END:STANDARD
BEGIN:DAYLIGHT
TZOFFSETFROM:+0100
TZOFFSETTO:+0200
TZNAME:CEST
DTSTART:20180325T010000
END:DAYLIGHT
BEGIN:STANDARD
TZOFFSETFROM:+0200
TZOFFSETTO:+0100
TZNAME:CET
DTSTART:20181028T010000
END:STANDARD
BEGIN:DAYLIGHT
TZOFFSETFROM:+0100
TZOFFSETTO:+0200
TZNAME:CEST
DTSTART:20190331T010000
END:DAYLIGHT
BEGIN:STANDARD
TZOFFSETFROM:+0200
TZOFFSETTO:+0100
TZNAME:CET
DTSTART:20191027T010000
END:STANDARD
BEGIN:DAYLIGHT
TZOFFSETFROM:+0100
TZOFFSETTO:+0200
TZNAME:CEST
DTSTART:20200329T010000
END:DAYLIGHT
BEGIN:STANDARD
TZOFFSETFROM:+0200
TZOFFSETTO:+0100
TZNAME:CET
DTSTART:20201025T010000
END:STANDARD
BEGIN:DAYLIGHT
TZOFFSETFROM:+0100
TZOFFSETTO:+0200
TZNAME:CEST
DTSTART:20210328T010000
END:DAYLIGHT
BEGIN:STANDARD
TZOFFSETFROM:+0200
TZOFFSETTO:+0100
TZNAME:CET
DTSTART:20211031T010000
END:STANDARD
BEGIN:DAYLIGHT
TZOFFSETFROM:+0100
TZOFFSETTO:+0200
TZNAME:CEST
DTSTART:20220327T010000
END:DAYLIGHT
BEGIN:STANDARD
TZOFFSETFROM:+0200
TZOFFSETTO:+0100
TZNAME:CET
DTSTART:20221030T010000
END:STANDARD
BEGIN:DAYLIGHT
TZOFFSETFROM:+0100
TZOFFSETTO:+0200
TZNAME:CEST
DTSTART:20230326T010000
END:DAYLIGHT
BEGIN:STANDARD
TZOFFSETFROM:+0200
TZOFFSETTO:+0100
TZNAME:CET
DTSTART:20231029T010000
END:STANDARD
END:VTIMEZONE
BEGIN:VEVENT
DTSTART;VALUE=DATE:20220614
DTEND;VALUE=DATE:20220615
DTSTAMP:20260425T060657
CREATED:20220610T095838Z
LAST-MODIFIED:20220610T095931Z
UID:14774-1655164800-1655251199@parma.avisemiliaromagna.it
SUMMARY:Giornata Mondiale del Donatore di Sangue
DESCRIPTION:La data del 14 giugno\, Giornata Mondiale del Donatore di Sangue\, è volta a sensibilizzare l’opinione pubblica sull’importanza della donazione di emocomponenti e\, soprattutto\, a sottolineare l’impegno fondamentale di chi\, gratuitamente\, compie questo gesto solidale a favore di tanti pazienti. L’obiettivo della campagna dell’Organizzazione mondiale della Sanità è quello di richiamare l’attenzione su quanto le donazioni volontarie rafforzino la solidarietà all’interno di ogni comunità.\n\nProgramma:\n\nORE 10\,30 SPETTACOLO TEATRALE DELLA FILARMONICA ARTURO TOSCANINI\, DEDICATO AI BAMBINI DAI 4 AI 10 ANNI\, PRESSO LA SEDE AVIS:\nPARTECIPERANNO I BAMBINI DEL GREST ANSPI DI SAN PANCRAZIO.\n\nUn armadio magico che racchiude libri e musica dotato di rotelle e trainato da una bicicletta\, è il cuore pulsante dello spettacolo musicale di lettura performativa e musica dal vivo Il libro più bello Fantaviaggio nella Biblioteca di Arturo.\nLo spettacolo\, nato per far conoscere il progetto “La Biblioteca di Arturo”\, la biblioteca musicale per bambini e ragazzi de ” La Toscanini”\, in questa speciale occasione mette al centro il valore del dono con la lettura di un racconto tratto dal libro “ll dono e la vita” di Guido Conti pubblicato da AVIS.\nL’attore ed il musicista coinvolti in questo spettacolo de La Toscanini sono Marco Fragnelli e Matteo Beschi ( tromba ).\n\nLa mattina il CENTRO SANITARIO AVIS continuerà la sua attività ordinaria con esami di idoneità\, controlli e donazioni di sangue e plasma.\n\n\nORE 11\,30 CONFERENZA STAMPA presso sede AVIS\, invitati FIDAS con il Presidente Seletti\, Dr. Soli Primario SIT Parma\, Sindaco di Parma Dr. Pizzarotti\, Assessore Sanità e Welfare \, Assistenza Pubblica con il Presidente Luca Bellingeri e Croce Rossa con il Presidente Giuseppe Zammarchi\n\nPOMERIGGIO SEDE APERTA\n\nDalle 15\,00 alle 18\,00 AVIS PROVINCIALE apre la sede per dare informazioni e fare promozione del dono del sangue.\nInvitati a partecipare le ASSOCIAZIONI: ASSISTENZA PUBBLICA E CROCE ROSSA che verranno con i propri militi due ambulanze.\n\n  \n\nORE 16\,00 TAVOLA ROTONDA per parlare di “utilizzo del Sangue nelle emergenze “ e “utilizzo del sangue nelle pratiche ospedaliere” con il Coordinatore Infermieristico Centrale Operativa 118 . Elisoccorso Area Omogenea Emilia Ovest Dr. Marco Boselli e il Direttore Dipartimento Responsabile Unità Multidisciplinare Mobile di Az. Ospedaliero-Universitaria Parma Dr. Antonio Nouvenne. Dialogherà con loro\, il Presidente di AVIS Provinciale Roberto Pasini.
URL:https://parma.avisemiliaromagna.it/eventi/giornata-mondiale-del-donatore-di-sangue/
CATEGORIES:Feste sociali
ATTACH;FMTTYPE=image/jpeg:https://parma.avisemiliaromagna.it/wp-content/uploads/2022/06/GM-Facebook.jpg
END:VEVENT
BEGIN:VEVENT
DTSTART;TZID=Europe/Rome:20191208T090000
DTEND;TZID=Europe/Rome:20191208T160000
DTSTAMP:20260425T060657
CREATED:20191203T110547Z
LAST-MODIFIED:20191203T110547Z
UID:9946-1575795600-1575820800@parma.avisemiliaromagna.it
SUMMARY:AVIS Collecchio - Auguri di Natale e distribuzione delle stelle
DESCRIPTION:
URL:https://parma.avisemiliaromagna.it/eventi/avis-collecchio-auguri-di-natale-e-distribuzione-delle-stelle/
CATEGORIES:Feste sociali
ATTACH;FMTTYPE=image/jpeg:https://parma.avisemiliaromagna.it/wp-content/uploads/2019/12/Immagine-scaled.jpg
END:VEVENT
BEGIN:VEVENT
DTSTART;TZID=Europe/Rome:20191019T171500
DTEND;TZID=Europe/Rome:20191019T230000
DTSTAMP:20260425T060657
CREATED:20190919T093539Z
LAST-MODIFIED:20190919T093819Z
UID:9827-1571505300-1571526000@parma.avisemiliaromagna.it
SUMMARY:AVIS FIDENZA - Festa del Donatore
DESCRIPTION:
URL:https://parma.avisemiliaromagna.it/eventi/avis-fidenza-festa-del-donatore/
CATEGORIES:Feste sociali
ATTACH;FMTTYPE=image/jpeg:https://parma.avisemiliaromagna.it/wp-content/uploads/2018/03/assemblea-15-dicembre-3156x1578.jpg
END:VEVENT
BEGIN:VEVENT
DTSTART;TZID=Europe/Rome:20191006T093000
DTEND;TZID=Europe/Rome:20191006T130000
DTSTAMP:20260425T060657
CREATED:20190920T112033Z
LAST-MODIFIED:20190920T112033Z
UID:9847-1570354200-1570366800@parma.avisemiliaromagna.it
SUMMARY:AVIS San Secondo - The Color Baby Run
DESCRIPTION:
URL:https://parma.avisemiliaromagna.it/eventi/avis-san-secondo-the-color-baby-run/
CATEGORIES:Feste sociali
ATTACH;FMTTYPE=image/jpeg:https://parma.avisemiliaromagna.it/wp-content/uploads/2019/09/san-secondo.jpg
END:VEVENT
BEGIN:VEVENT
DTSTART;TZID=Europe/Rome:20191004T183000
DTEND;TZID=Europe/Rome:20191005T190000
DTSTAMP:20260425T060657
CREATED:20190919T100929Z
LAST-MODIFIED:20190919T100929Z
UID:9832-1570213800-1570302000@parma.avisemiliaromagna.it
SUMMARY:AVIS Parma - XXXVIII Festa del Dono
DESCRIPTION:  \n  \n  \n  \n \n 
URL:https://parma.avisemiliaromagna.it/eventi/avis-parma-xxxviii-festa-del-dono/
CATEGORIES:Feste sociali
ATTACH;FMTTYPE=image/png:https://parma.avisemiliaromagna.it/wp-content/uploads/2019/09/Immagine.png
END:VEVENT
BEGIN:VEVENT
DTSTART;TZID=Europe/Rome:20190908T090000
DTEND;TZID=Europe/Rome:20190908T160000
DTSTAMP:20260425T060657
CREATED:20190802T091014Z
LAST-MODIFIED:20190802T091014Z
UID:9806-1567933200-1567958400@parma.avisemiliaromagna.it
SUMMARY:AVIS Busseto - Festa del Donatore
DESCRIPTION:
URL:https://parma.avisemiliaromagna.it/eventi/avis-busseto-festa-del-donatore/
CATEGORIES:Feste sociali
ATTACH;FMTTYPE=image/jpeg:https://parma.avisemiliaromagna.it/wp-content/uploads/2019/08/Immagine.jpg
END:VEVENT
BEGIN:VEVENT
DTSTART;TZID=Europe/Rome:20190830T193000
DTEND;TZID=Europe/Rome:20190901T230000
DTSTAMP:20260425T060657
CREATED:20190731T133602Z
LAST-MODIFIED:20190731T133602Z
UID:9800-1567193400-1567378800@parma.avisemiliaromagna.it
SUMMARY:AVIS Sorbolo in FESTA!
DESCRIPTION:
URL:https://parma.avisemiliaromagna.it/eventi/avis-sorbolo-in-festa/
CATEGORIES:Feste sociali
ATTACH;FMTTYPE=image/jpeg:https://parma.avisemiliaromagna.it/wp-content/uploads/2019/07/Immagine.jpg
END:VEVENT
BEGIN:VEVENT
DTSTART;TZID=Europe/Rome:20190818T093000
DTEND;TZID=Europe/Rome:20190818T150000
DTSTAMP:20260425T060657
CREATED:20190509T075025Z
LAST-MODIFIED:20190509T075025Z
UID:9661-1566120600-1566140400@parma.avisemiliaromagna.it
SUMMARY:45° Anniversario - AVIS Tornolo
DESCRIPTION:  \n  \n  \n  \n  \n  \n  \n  \n \n  \n  \n  \n  \n \n  \n  \n  \n \n  \n  \n 
URL:https://parma.avisemiliaromagna.it/eventi/45-anniversario-avis-tornolo/
CATEGORIES:Feste sociali
ATTACH;FMTTYPE=image/jpeg:https://parma.avisemiliaromagna.it/wp-content/uploads/2019/05/Tornolo.jpg
END:VEVENT
BEGIN:VEVENT
DTSTART;TZID=Europe/Rome:20190719T190000
DTEND;TZID=Europe/Rome:20190720T233000
DTSTAMP:20260425T060657
CREATED:20190715T103104Z
LAST-MODIFIED:20190715T103104Z
UID:9782-1563562800-1563665400@parma.avisemiliaromagna.it
SUMMARY:AVIS Soragna - Bassa Summer Party
DESCRIPTION: 
URL:https://parma.avisemiliaromagna.it/eventi/avis-soragna-bassa-summer-party/
CATEGORIES:Feste sociali
ATTACH;FMTTYPE=image/jpeg:https://parma.avisemiliaromagna.it/wp-content/uploads/2019/07/65959741_2592253380835220_959691535845163008_n.jpg
END:VEVENT
BEGIN:VEVENT
DTSTART;TZID=Europe/Rome:20190616T090000
DTEND;TZID=Europe/Rome:20190616T150000
DTSTAMP:20260425T060657
CREATED:20190509T071945Z
LAST-MODIFIED:20190509T071945Z
UID:9654-1560675600-1560697200@parma.avisemiliaromagna.it
SUMMARY:50° Anniversario - AVIS Solignano
DESCRIPTION:
URL:https://parma.avisemiliaromagna.it/eventi/50-anniversario-avis-solignano/
CATEGORIES:Feste sociali
ATTACH;FMTTYPE=image/jpeg:https://parma.avisemiliaromagna.it/wp-content/uploads/2019/05/Solignano-1.jpg
END:VEVENT
BEGIN:VEVENT
DTSTART;TZID=Europe/Rome:20190614T190000
DTEND;TZID=Europe/Rome:20190614T233000
DTSTAMP:20260425T060657
CREATED:20190513T080545Z
LAST-MODIFIED:20190513T080545Z
UID:9681-1560538800-1560555000@parma.avisemiliaromagna.it
SUMMARY:11° Staffetta dei Donatori - AVIS Busseto
DESCRIPTION:
URL:https://parma.avisemiliaromagna.it/eventi/11-staffetta-dei-donatori-avis-busseto/
CATEGORIES:Feste sociali
ATTACH;FMTTYPE=image/png:https://parma.avisemiliaromagna.it/wp-content/uploads/2019/05/Senzanome.png
END:VEVENT
BEGIN:VEVENT
DTSTART;TZID=Europe/Rome:20190609T080000
DTEND;TZID=Europe/Rome:20190609T150000
DTSTAMP:20260425T060657
CREATED:20190506T112916Z
LAST-MODIFIED:20190506T112916Z
UID:9637-1560067200-1560092400@parma.avisemiliaromagna.it
SUMMARY:60° Anniversario - AVIS Sala Baganza
DESCRIPTION:
URL:https://parma.avisemiliaromagna.it/eventi/60-anniversario-avis-sala-baganza/
CATEGORIES:Feste sociali
ATTACH;FMTTYPE=image/jpeg:https://parma.avisemiliaromagna.it/wp-content/uploads/2019/05/avis_facebook_anniversario_busseto_940x940-1.jpg
END:VEVENT
BEGIN:VEVENT
DTSTART;TZID=Europe/Rome:20190608T210000
DTEND;TZID=Europe/Rome:20190609T150000
DTSTAMP:20260425T060657
CREATED:20190506T110759Z
LAST-MODIFIED:20190506T110759Z
UID:9635-1560027600-1560092400@parma.avisemiliaromagna.it
SUMMARY:60° Anniversario - AVIS Colorno
DESCRIPTION:  \n \n  \n  \n  \n  \n  \n \n 
URL:https://parma.avisemiliaromagna.it/eventi/60-anniversario-avis-colorno/
CATEGORIES:Feste sociali
ATTACH;FMTTYPE=image/jpeg:https://parma.avisemiliaromagna.it/wp-content/uploads/2019/05/avis_facebook_anniversario_busseto_940x940.jpg
END:VEVENT
BEGIN:VEVENT
DTSTART;TZID=Europe/Rome:20190512T103000
DTEND;TZID=Europe/Rome:20190512T140000
DTSTAMP:20260425T060657
CREATED:20190506T103131Z
LAST-MODIFIED:20190506T103222Z
UID:9626-1557657000-1557669600@parma.avisemiliaromagna.it
SUMMARY:AVIS Pieveottoville - Festa del Donatore
DESCRIPTION:
URL:https://parma.avisemiliaromagna.it/eventi/avis-pieveottoville-festa-del-donatore/
CATEGORIES:Feste sociali
ATTACH;FMTTYPE=image/png:https://parma.avisemiliaromagna.it/wp-content/uploads/2016/01/fav72.png
END:VEVENT
BEGIN:VEVENT
DTSTART;TZID=Europe/Rome:20181125T150000
DTEND;TZID=Europe/Rome:20181125T150000
DTSTAMP:20260425T060657
CREATED:20181116T100409Z
LAST-MODIFIED:20181116T100439Z
UID:7852-1543158000-1543158000@parma.avisemiliaromagna.it
SUMMARY:Castagnata con mostra d'arte - AVIS Crocetta e Ospedalieri
DESCRIPTION:
URL:https://parma.avisemiliaromagna.it/eventi/castagnata-con-mostra-darte-avis-crocetta-e-ospedalieri/
CATEGORIES:Feste sociali
ATTACH;FMTTYPE=image/jpeg:https://parma.avisemiliaromagna.it/wp-content/uploads/2018/10/castagne.jpg
END:VEVENT
BEGIN:VEVENT
DTSTART;TZID=Europe/Rome:20181111T153000
DTEND;TZID=Europe/Rome:20181111T153000
DTSTAMP:20260425T060657
CREATED:20181106T111116Z
LAST-MODIFIED:20181106T111116Z
UID:7834-1541950200-1541950200@parma.avisemiliaromagna.it
SUMMARY:AVIS Montebello - Concerto "I Mandolisti di Parma"
DESCRIPTION:
URL:https://parma.avisemiliaromagna.it/eventi/avis-montebello-concerto-i-mandolisti-di-parma/
CATEGORIES:Feste sociali
END:VEVENT
BEGIN:VEVENT
DTSTART;TZID=Europe/Rome:20181111T083000
DTEND;TZID=Europe/Rome:20181111T083000
DTSTAMP:20260425T060657
CREATED:20181109T114320Z
LAST-MODIFIED:20181109T114516Z
UID:7843-1541925000-1541925000@parma.avisemiliaromagna.it
SUMMARY:50° Anniversario - AVIS Assistenza Pubblica
DESCRIPTION:
URL:https://parma.avisemiliaromagna.it/eventi/50-anniversario-avis-assistenza-pubblica/
CATEGORIES:Feste sociali
ATTACH;FMTTYPE=image/jpeg:https://parma.avisemiliaromagna.it/wp-content/uploads/2018/03/50-logo.jpg
END:VEVENT
BEGIN:VEVENT
DTSTART;TZID=Europe/Rome:20181028T093000
DTEND;TZID=Europe/Rome:20181028T093000
DTSTAMP:20260425T060657
CREATED:20181004T091151Z
LAST-MODIFIED:20181004T091444Z
UID:7768-1540719000-1540719000@parma.avisemiliaromagna.it
SUMMARY:40° Anniversario - AVIS di Base Montebello
DESCRIPTION:  \n  \n \n 
URL:https://parma.avisemiliaromagna.it/eventi/40-anniversario-avis-di-base-montebello/
CATEGORIES:Feste sociali
ATTACH;FMTTYPE=image/jpeg:https://parma.avisemiliaromagna.it/wp-content/uploads/2018/10/Immagine.jpg
END:VEVENT
BEGIN:VEVENT
DTSTART;TZID=Europe/Rome:20181014T130000
DTEND;TZID=Europe/Rome:20181014T200000
DTSTAMP:20260425T060657
CREATED:20181008T103455Z
LAST-MODIFIED:20181008T103455Z
UID:7782-1539522000-1539547200@parma.avisemiliaromagna.it
SUMMARY:CastagnataAVIS - AVIS Sala Baganza
DESCRIPTION:39° EDIZIONE \n \nAVIS Sala Baganza è lieta di invitarvi alla “Castagnata AVIS”  \nche si terrà presso la sede AVIS di Sala Baganza a partire \ndalle ore 13:00 \nper gustare derivati tipici quali \nbrusé\, pattone\, patonen\, tortelli con ripieno di castagne e ripieno di castagna. \nIl tutto accompagnato dal gruppo orchestra Silvano e Mauro e da momenti di sana allegria con le barzellette di Willer Collura. \nOre 18:30 estrazione della lotteria con ricchi premi. \n  \nPer info 0521.834640 o salabaganza.comunale@avis.it
URL:https://parma.avisemiliaromagna.it/eventi/castagnataavis-avis-sala-baganza/
CATEGORIES:Feste sociali
ATTACH;FMTTYPE=image/jpeg:https://parma.avisemiliaromagna.it/wp-content/uploads/2018/10/castagne.jpg
END:VEVENT
BEGIN:VEVENT
DTSTART;TZID=Europe/Rome:20181013T213000
DTEND;TZID=Europe/Rome:20181013T213000
DTSTAMP:20260425T060657
CREATED:20181002T083614Z
LAST-MODIFIED:20181002T083614Z
UID:7763-1539466200-1539466200@parma.avisemiliaromagna.it
SUMMARY:"Donare" - I Toni Marci si esibiscono a Traversetolo
DESCRIPTION:
URL:https://parma.avisemiliaromagna.it/eventi/donare-i-toni-marci-si-esibiscono-a-traversetolo/
CATEGORIES:Feste sociali
ATTACH;FMTTYPE=image/png:https://parma.avisemiliaromagna.it/wp-content/uploads/2018/05/Immagine-1.png
END:VEVENT
BEGIN:VEVENT
DTSTART;VALUE=DATE:20180908
DTEND;VALUE=DATE:20180909
DTSTAMP:20260425T060657
CREATED:20180803T113850Z
LAST-MODIFIED:20180803T114013Z
UID:6517-1536364800-1536451199@parma.avisemiliaromagna.it
SUMMARY:Festa Sociale - AVIS Noceto
DESCRIPTION:Siamo lieti di invitarLa \nSABATO 8 SETTEMBRE\, nell’area “Il PIOPPO” per la annuale festa Sociale che avrà il seguente programma: \nORE 18:00 – raduno dei convenuti \nORE 18:15 – celebrazione Santa Messa \nORE 19:00 – saluti del Presidente di Sezione e delle Autorità \nORE 19:45 – grandiosa apericena a buffet \nCi riterremo onorati se parteciperà quale nostro gradito ospite! \nPer info AVIS Noceto – 0521.620122  (noceto.comunale@avis.it)
URL:https://parma.avisemiliaromagna.it/eventi/festa-sociale-avis-noceto/
CATEGORIES:Feste sociali
ATTACH;FMTTYPE=image/jpeg:https://parma.avisemiliaromagna.it/wp-content/uploads/2016/02/avis-1.jpg
END:VEVENT
BEGIN:VEVENT
DTSTART;VALUE=DATE:20180831
DTEND;VALUE=DATE:20180903
DTSTAMP:20260425T060657
CREATED:20180827T090428Z
LAST-MODIFIED:20180827T105809Z
UID:7718-1535673600-1535932799@parma.avisemiliaromagna.it
SUMMARY:Festa Sociale - AVIS Sorbolo
DESCRIPTION:L’AVIS Comunale Sorbolo è lieta di invitarVi alla tradizionale Festa Sociale\, che si terrà nei giorni 31 Agosto\, 1 e 2 Settembre 2018\, per festeggiare insieme i valori della Solidarietà\, della Generosità e dell’Altruismo. \n  \n \n  \nIn particolare\, l’invito è rivolto per la mattina di domenica 2 Settembre\, il vero fulcro della festa. \n  \nPROGRAMMA DOMENICA 2SETTEMBRE \nOre 9:00 – ritrovo presso la sede AVIS di via Gruppini 4/bis\, Sorbolo (PR) \nOre 9:30 – corteo con labari\, autorità e cittadinanza accompagnato dalla banda musicale “Mezzabanda” di Mezzani \nOre 10:00 – Celebrazione Santa Messa presso la Chiesa Parrocchiale SS. Faustino e Giovita \nOre 11:00 – Saluto del Presidente di Sezione e Autorità presenti\, intervento della Dr.ssa Fiorella Scognamiglio Responsabile Medico Unità di Raccolta Avis Provinciale Parma\, Premiazione donatori benemeriti\, presso il parco AVIS/CRI (in caso di maltempo presso Sala Clivio del Centro Civico Comunale di Via Gruppini) \n  \nPer info AVIS Sorbolo \nTel. 0521.698928 \nMail: info@avissorbolo.it
URL:https://parma.avisemiliaromagna.it/eventi/festa-sociale-avis-sorbolo/
CATEGORIES:Feste sociali
ATTACH;FMTTYPE=image/jpeg:https://parma.avisemiliaromagna.it/wp-content/uploads/2018/08/Immagine.jpg
END:VEVENT
BEGIN:VEVENT
DTSTART;VALUE=DATE:20180829
DTEND;VALUE=DATE:20180903
DTSTAMP:20260425T060657
CREATED:20180803T112930Z
LAST-MODIFIED:20180803T112930Z
UID:6513-1535500800-1535932799@parma.avisemiliaromagna.it
SUMMARY:50° Anniversario - AVIS San Prospero
DESCRIPTION:
URL:https://parma.avisemiliaromagna.it/eventi/50-anniversario-avis-san-prospero/
CATEGORIES:Feste sociali
ATTACH;FMTTYPE=image/png:https://parma.avisemiliaromagna.it/wp-content/uploads/2018/08/Immagine.png
END:VEVENT
BEGIN:VEVENT
DTSTART;VALUE=DATE:20180715
DTEND;VALUE=DATE:20180716
DTSTAMP:20260425T060657
CREATED:20180614T093106Z
LAST-MODIFIED:20180614T093106Z
UID:6063-1531612800-1531699199@parma.avisemiliaromagna.it
SUMMARY:55° anniversario AVIS Traversetolo
DESCRIPTION:
URL:https://parma.avisemiliaromagna.it/eventi/55-anniversario-avis-traversetolo/
CATEGORIES:Feste sociali
ATTACH;FMTTYPE=image/jpeg:https://parma.avisemiliaromagna.it/wp-content/uploads/2018/06/Immagine.jpg
END:VEVENT
BEGIN:VEVENT
DTSTART;VALUE=DATE:20180707
DTEND;VALUE=DATE:20180709
DTSTAMP:20260425T060657
CREATED:20180626T102021Z
LAST-MODIFIED:20180626T102021Z
UID:6101-1530921600-1531094399@parma.avisemiliaromagna.it
SUMMARY:AVIS Sissa Trecasali - Festa del Donatore
DESCRIPTION:
URL:https://parma.avisemiliaromagna.it/eventi/avis-sissa-trecasali-festa-del-donatore/
CATEGORIES:Feste sociali
ATTACH;FMTTYPE=image/jpeg:https://parma.avisemiliaromagna.it/wp-content/uploads/2018/06/sissa.jpg
END:VEVENT
BEGIN:VEVENT
DTSTART;TZID=Europe/Rome:20180617T090000
DTEND;TZID=Europe/Rome:20180617T133000
DTSTAMP:20260425T060657
CREATED:20180510T111820Z
LAST-MODIFIED:20180510T111820Z
UID:6009-1529226000-1529242200@parma.avisemiliaromagna.it
SUMMARY:50° Anniversario AVIS Vigatto
DESCRIPTION:PROGRAMMA \n  \n\nOre 9:00 – Ritrovo dei Partecipanti presso sede AVIS Vigatto in Corcagnano via Donatori del Sangue 4\nOre 9:30 – Quando la Solidarietà diventa mobilità: Presentazione e Benedizione TAXI SOCIALE\nOre 10:00 – Saluti Autorità\nOre 10:20 – Intervento Prof. Florio Ghinelli\nOre 10:50 – Premiazione Donatori\nOre 11:30 – Aperitivo
URL:https://parma.avisemiliaromagna.it/eventi/50-anniversario-avis-vigatto/
CATEGORIES:Feste sociali
ATTACH;FMTTYPE=image/png:https://parma.avisemiliaromagna.it/wp-content/uploads/2018/05/Immagine.png
END:VEVENT
BEGIN:VEVENT
DTSTART;TZID=Europe/Rome:20180526T203000
DTEND;TZID=Europe/Rome:20180527T160000
DTSTAMP:20260425T060657
CREATED:20180420T090311Z
LAST-MODIFIED:20180420T090311Z
UID:6004-1527366600-1527436800@parma.avisemiliaromagna.it
SUMMARY:50° Anniversario AVIS Berceto
DESCRIPTION:PROGRAMMA \n  \nSABATO 26 MAGGIO \n\nOre 20.30 – Spettacolo dei bambini delle scuole elementari e medie presso Casa della Gioventù                                                            A seguire presentazione libro AVIS                                                                                                                                          Spettacolo d’animazione con la sabbia dell’artista Nadia Ischia.\n\n\nDOMENICA 27 MAGGIO \n\nOre 9.00 – Ritrovo in sede AVIS Berceto\nOre 9.45 – Sfilata con la banda lungo le vie del paese\nOre 10.30 – Santa messa in duomo\nOre 11.30 – Premiazione donatori\, consorelle\, associazioni e autorità\nOre 13.00 – Pranzo Sociale presso ristorante “Manubiola” di Bergotto\n\n  \nPer info e prenotazioni: \nAVIS BERCETO \nTel./Fax – 0525.64215 \nMail – avis.berceto@libero.it
URL:https://parma.avisemiliaromagna.it/eventi/50-anniversario-avis-berceto/
CATEGORIES:Feste sociali
ATTACH;FMTTYPE=image/png:https://parma.avisemiliaromagna.it/wp-content/uploads/2018/04/Senzanome.png
END:VEVENT
BEGIN:VEVENT
DTSTART;VALUE=DATE:20180506
DTEND;VALUE=DATE:20180507
DTSTAMP:20260425T060657
CREATED:20180330T112721Z
LAST-MODIFIED:20180330T112901Z
UID:5987-1525564800-1525651199@parma.avisemiliaromagna.it
SUMMARY:50°Anniversario AVIS Calestano
DESCRIPTION:PROGRAMMA \n  \n\nh10:00 – ritrovo presso la sede sociale in via Verdi n°5 a Calestano. Accreditamento delle sezioni comunali presenti e corteo verso la chiesa. Sarà presente la Piccola Banda di Calestano.\nh11:15 – Santa Messa\nh12:15 – spostamento presso Ristorante Fontana\nh12:30 – discorsi e premiazioni\nh13:00 – grande pranzo in compagnia\n\n  \nPer info: \ntel. 366.9318888 – 349.4181696
URL:https://parma.avisemiliaromagna.it/eventi/50anniversario-avis-calestano/
CATEGORIES:Feste sociali
ATTACH;FMTTYPE=image/jpeg:https://parma.avisemiliaromagna.it/wp-content/uploads/2018/03/50-logo.jpg
END:VEVENT
BEGIN:VEVENT
DTSTART;VALUE=DATE:20170614
DTEND;VALUE=DATE:20170615
DTSTAMP:20260425T060657
CREATED:20170613T101924Z
LAST-MODIFIED:20170613T101924Z
UID:3021-1497398400-1497484799@parma.avisemiliaromagna.it
SUMMARY:AVIS Parma - Giornata Mondiale del Donatore di Sangue
DESCRIPTION:GIORNATA MONDIALE DEL DONATORE \n  \nIn occasione della Giornata del Donatore ADAS e AVIS offrono l’ingresso gratuito per la visione del film “Quello che so di lei”. \nCINEMA ASTRA ore 21:00
URL:https://parma.avisemiliaromagna.it/eventi/avis-parma-giornata-mondiale-del-donatore-sangue/
LOCATION:Cinema Astra\, piazza volta 3\, Parma\, 43123\, Italia
CATEGORIES:Feste sociali
ATTACH;FMTTYPE=image/jpeg:https://parma.avisemiliaromagna.it/wp-content/uploads/2017/06/locandina-film.jpg
END:VEVENT
BEGIN:VEVENT
DTSTART;VALUE=DATE:20170528
DTEND;VALUE=DATE:20170529
DTSTAMP:20260425T060657
CREATED:20170516T080456Z
LAST-MODIFIED:20170516T080456Z
UID:3009-1495929600-1496015999@parma.avisemiliaromagna.it
SUMMARY:50° Anniversario di Fondazione - AVIS Pellegrino Parmense
DESCRIPTION:PROGRAMMA EVENTO \n  \n\nore 9:00 – Raduno presso la Sede\nore 9:15 – Partenza Corteo e breve sosta a Casa Protetta\nore 9:30 – Esibizione Banda in Piazza Berzieri\nore 10:00 – S.Messa corale\nore 11:00 – Discorsi\, Premiazioni e Consegna Lettere alle Consorelle\nore 13:00 – Buffet al Lago Blu
URL:https://parma.avisemiliaromagna.it/eventi/50-anniversario-fondazione-avis-pellegrino-parmense/
LOCATION:pellegrino parmense\, via matteotti 4\, Pellegrino Parmense\, Parma\, 43047\, Italia
CATEGORIES:Feste sociali
END:VEVENT
END:VCALENDAR