BEGIN:VCALENDAR
VERSION:2.0
PRODID:-//AVIS Provinciale Parma - ECPv6.15.13//NONSGML v1.0//EN
CALSCALE:GREGORIAN
METHOD:PUBLISH
X-WR-CALNAME:AVIS Provinciale Parma
X-ORIGINAL-URL:https://parma.avisemiliaromagna.it
X-WR-CALDESC:Eventi per AVIS Provinciale Parma
REFRESH-INTERVAL;VALUE=DURATION:PT1H
X-Robots-Tag:noindex
X-PUBLISHED-TTL:PT1H
BEGIN:VTIMEZONE
TZID:Europe/Rome
BEGIN:DAYLIGHT
TZOFFSETFROM:+0100
TZOFFSETTO:+0200
TZNAME:CEST
DTSTART:20180325T010000
END:DAYLIGHT
BEGIN:STANDARD
TZOFFSETFROM:+0200
TZOFFSETTO:+0100
TZNAME:CET
DTSTART:20181028T010000
END:STANDARD
BEGIN:DAYLIGHT
TZOFFSETFROM:+0100
TZOFFSETTO:+0200
TZNAME:CEST
DTSTART:20190331T010000
END:DAYLIGHT
BEGIN:STANDARD
TZOFFSETFROM:+0200
TZOFFSETTO:+0100
TZNAME:CET
DTSTART:20191027T010000
END:STANDARD
BEGIN:DAYLIGHT
TZOFFSETFROM:+0100
TZOFFSETTO:+0200
TZNAME:CEST
DTSTART:20200329T010000
END:DAYLIGHT
BEGIN:STANDARD
TZOFFSETFROM:+0200
TZOFFSETTO:+0100
TZNAME:CET
DTSTART:20201025T010000
END:STANDARD
END:VTIMEZONE
BEGIN:VEVENT
DTSTART;TZID=Europe/Rome:20190628T200000
DTEND;TZID=Europe/Rome:20190628T233000
DTSTAMP:20260425T150358
CREATED:20190527T081240Z
LAST-MODIFIED:20190527T081240Z
UID:9695-1561752000-1561764600@parma.avisemiliaromagna.it
SUMMARY:Staffetta "Insieme sotto le Stelle" - AVIS Torrile
DESCRIPTION:
URL:https://parma.avisemiliaromagna.it/eventi/staffetta-insieme-sotto-le-stelle-avis-torrile/
CATEGORIES:Eventi Sportivi
ATTACH;FMTTYPE=image/jpeg:https://parma.avisemiliaromagna.it/wp-content/uploads/2019/05/Immagine.jpg
END:VEVENT
BEGIN:VEVENT
DTSTART;TZID=Europe/Rome:20190628T190000
DTEND;TZID=Europe/Rome:20190628T200000
DTSTAMP:20260425T150358
CREATED:20190527T082156Z
LAST-MODIFIED:20190527T082156Z
UID:9700-1561748400-1561752000@parma.avisemiliaromagna.it
SUMMARY:"AVIS Kids Run" - AVIS Torrile
DESCRIPTION:
URL:https://parma.avisemiliaromagna.it/eventi/avis-kids-run-avis-torrile/
CATEGORIES:Eventi Sportivi
ATTACH;FMTTYPE=image/jpeg:https://parma.avisemiliaromagna.it/wp-content/uploads/2019/05/Immagine.jpg
END:VEVENT
END:VCALENDAR